BEGIN:VCALENDAR
VERSION:2.0
PRODID:-//Telman - ECPv6.15.20//NONSGML v1.0//EN
CALSCALE:GREGORIAN
METHOD:PUBLISH
X-ORIGINAL-URL:https://telman.com.br
X-WR-CALDESC:Eventos para Telman
REFRESH-INTERVAL;VALUE=DURATION:PT1H
X-Robots-Tag:noindex
X-PUBLISHED-TTL:PT1H
BEGIN:VTIMEZONE
TZID:America/Sao_Paulo
BEGIN:STANDARD
TZOFFSETFROM:-0300
TZOFFSETTO:-0300
TZNAME:-03
DTSTART:20220101T000000
END:STANDARD
END:VTIMEZONE
BEGIN:VEVENT
DTSTART;TZID=America/Sao_Paulo:20230905T090000
DTEND;TZID=America/Sao_Paulo:20230905T170000
DTSTAMP:20260420T132150
CREATED:20230830T184953Z
LAST-MODIFIED:20230831T205816Z
UID:10000044-1693904400-1693933200@telman.com.br
SUMMARY:Técnico em TMR – Gravadores Veiculares
DESCRIPTION:Conteúdo Treinamento: \n• Módulo 1 \n– Visão geral sobre a linha \n• Módulo 2 \n– Requisitos de instalação \n– Boas práticas de instalação \n– Boas práticas de redes \n• Módulo 3 \n– Instalação de câmeras veiculares \n• Módulo 4 \n– Instalação de gravadores veiculares \n• Módulo 5 \n– Configurações do gravador \n• Módulo 6 \n– iFleet Pro Server – Visão geral \n– iFleet Pro Client – Operação \nObjetivos de aprendizagem \nAo final do curso o aluno deverá ser capaz de: \nAplicar a solução TMR utilizando boas práticas \nConfigurar as principais funcionalidades dos gravadores veiculares \nOperar a solução TMR via software iFleet Pro Client \nMetodologia de ensino \nPresencial – O material didático deste curso será apresentado através de aula expositiva e demonstrativa.
URL:https://telman.com.br/treinamento/tecnico-em-tmr-gravadores-veiculares/
LOCATION:Unidade Mooca\, R. Dias Leme\, 73\, São Paulo\, SP\, 03118-040\, Brasil
ATTACH;FMTTYPE=image/png:https://telman.com.br/wp-content/uploads/2023/08/TMR-3.png
END:VEVENT
BEGIN:VEVENT
DTSTART;TZID=America/Sao_Paulo:20230919T090000
DTEND;TZID=America/Sao_Paulo:20230919T120000
DTSTAMP:20260420T132150
CREATED:20230912T161958Z
LAST-MODIFIED:20230912T163136Z
UID:10000045-1695114000-1695124800@telman.com.br
SUMMARY:Workshop Alarmes e Sensores (manhã)
DESCRIPTION:
URL:https://telman.com.br/treinamento/workshop-alarmes-e-sensores/
LOCATION:Unidade Mooca\, R. Dias Leme\, 73\, São Paulo\, SP\, 03118-040\, Brasil
END:VEVENT
BEGIN:VEVENT
DTSTART;TZID=America/Sao_Paulo:20230919T140000
DTEND;TZID=America/Sao_Paulo:20230919T170000
DTSTAMP:20260420T132150
CREATED:20230912T162742Z
LAST-MODIFIED:20230912T162843Z
UID:10000046-1695132000-1695142800@telman.com.br
SUMMARY:Workshop Alarmes e Sensores (tarde)
DESCRIPTION:
URL:https://telman.com.br/treinamento/workshop-alarmes-e-sensores-2/
LOCATION:Unidade Mooca\, R. Dias Leme\, 73\, São Paulo\, SP\, 03118-040\, Brasil
END:VEVENT
BEGIN:VEVENT
DTSTART;TZID=America/Sao_Paulo:20230927T090000
DTEND;TZID=America/Sao_Paulo:20230929T170000
DTSTAMP:20260420T132150
CREATED:20230912T163650Z
LAST-MODIFIED:20230913T125743Z
UID:10000047-1695805200-1696006800@telman.com.br
SUMMARY:Certificação Defense IA
DESCRIPTION:Conteúdo programático \nMódulo 1 – Instalação do sistema\, aplicação server e licenciamento\n– Instalação do sistema\n– Serviços do sistema\n– IP de mapeamento local e externo\n– Download aplicação cliente\n– Primeiro acesso ao sistema\n– Licenciamento e ativação \nMódulo 2 – Dispositivos\n– Buscar dispositivos na rede \n– Adicionando um dispositivo automaticamente\n– Adicionando um dispositivo manualmente\n– Configuração de características\n– Configuração de parâmetros\n– Busca de IPs por segmento de rede\n– Vinculando planos de gravação\n– Recuperação de borda\n– Organizações \nMódulo 3 – Grupos de usuários\n– Usuário Super administrador\n– Grupo de usuários\n– Permissões de acesso e configuração\n– Gerenciamento de usuários \nMódulo 4 – Armazenamento \n– Adicionando discos de rede\n– Configuração de armazenamento em servidores\n– Quota de grupos de discos\n– Planos de gravações para câmeras e gravadores \nMódulo 5 – Gerenciamento de banco de dados\, leitura de placas veiculares e contagem de pessoas\n– Criar banco de dados facial\n– Configurar banco de dados facial\n– Aplicar configurações no dispositivo de borda\n– Funcionamento reconhecimento facial no sistema\n– Cadastrar placa veicular\n– Vincular ao grupo de armação veicular\n– Configurando contagem de pessoas no sistema\n– Relatórios de contagem de pessoas \nMódulo 6 –Eventos\, casos de incidentes e mapas \n– Criando eventos\n– Integrando dispositivos com eventos\n– Configuração de eventos\n– Tratando eventos acionados\n– Testando eventos configurados\n– Criando casos de incidentes\n– Vinculando ocorrências\n– Exportando arquivos de ocorrências\n– Vinculando mapas georreferenciáveis e mapas offline\n– Vinculando dispositivos ao mapa\n– Gerenciamento via mapas \nMódulo 7 – Servidores auxiliares\, Logs\, manutenções e estatísticas \n– Servidores auxiliares\n– Servidores em cascata\n– Parâmetros do sistema\n– Políticas de segurança\n– Servidores SMTP\n– Período de retenção de logs e eventos\n– Banco de dados auxiliar\n– Módulo Síntese\n– Logs do sistema\n– Centro de manutenção \nMódulo 8 – Operação Cliente \n– Centro de monitoramento\n– Mosaicos de vídeo\n– Funções menu monitoramento\n– Tipos de transmissão\n– Habilitando funções de LPR\, Reconhecimento facial e estruturação de vídeo\n– Reprodução de vídeo\n– Exportar vídeos\n– Funções menu reprodução\n– Operação Speed Domes – PTZ\, Presets\, Tour\, Patrulhas e limpador inteligente\n– DeepXplore – Buscar Faces e Carros detectados\n– Gerenciamento e tratamento de eventos\n– Estatísticas de eventos\n– Gerenciamento de mapas \nObjetivos de aprendizagem \nAo final do curso o participante deverá ser capaz de:\n-Compreender o funcionamento do software cliente e servidor;\n-Instalar e configurar o Defense IA em um servidor;\n-Configurar o sistema e seus componentes;\n-Planejar e oferecer o sistema de acordo com a necessidade do cliente;\n-Operacionalizar o software de acordo com sua necessidade;
URL:https://telman.com.br/treinamento/certificacao-defense-ia/
LOCATION:Unidade Mooca\, R. Dias Leme\, 73\, São Paulo\, SP\, 03118-040\, Brasil
ATTACH;FMTTYPE=image/png:https://telman.com.br/wp-content/uploads/2023/09/400x400-Certificacao-Defense-IA.png
END:VEVENT
END:VCALENDAR