BEGIN:VCALENDAR
VERSION:2.0
PRODID:-//Telman - ECPv6.15.20//NONSGML v1.0//EN
CALSCALE:GREGORIAN
METHOD:PUBLISH
X-ORIGINAL-URL:https://telman.com.br
X-WR-CALDESC:Eventos para Telman
REFRESH-INTERVAL;VALUE=DURATION:PT1H
X-Robots-Tag:noindex
X-PUBLISHED-TTL:PT1H
BEGIN:VTIMEZONE
TZID:America/Sao_Paulo
BEGIN:STANDARD
TZOFFSETFROM:-0300
TZOFFSETTO:-0300
TZNAME:-03
DTSTART:20220101T000000
END:STANDARD
END:VTIMEZONE
BEGIN:VEVENT
DTSTART;TZID=America/Sao_Paulo:20231107T090000
DTEND;TZID=America/Sao_Paulo:20231107T170000
DTSTAMP:20260420T102828
CREATED:20230912T171832Z
LAST-MODIFIED:20230913T125831Z
UID:10000051-1699347600-1699376400@telman.com.br
SUMMARY:Treinamento Técnico - CFTV MULTI HD
DESCRIPTION:O treinamento técnico sobre gravadores Multi HD\, visa fornecer ao público o conhecimento necessário a respeito das principais configurações disponíveis nos gravadores da linha Multi HD\, assim como saber operá-lo. \nPúblico-álvo: Instaladores\, revendedores\, vendedores\, distribuidores e demais profissionais da área de Segurança Eletrônica. \nPré-requisito: Iniciantes em Sistemas de CFTV \nConteúdo Programático \nMódulo 1 – Orientações gerais sobre o primeiro acesso \n– Visão geral sobre o menu principal \nMódulo 2 – Configurações do menu Câmera \n– Encoder\n– Sobrepor\n– Modo de operação\n– Dispositivo remoto\n– Status dos canais \nMódulo 3 – Configurações do menu Armazenamento \n– Configurações básicas\n– Agenda\n– Gravação\n– Gerenciar HD\n– Estimativa de gravação \nMódulo 4 – Configurações do menu Evento \n– Detecção de movimento \n– Detecção de perda de vídeo \n– Detecção de mascaramento \nMódulo 5 – Configurações de Rede \n– Intelbras Cloud\n– TCP/IP\n– Wi-Fi\n– DDNS \nMódulo 6 – Configurações do Sistema \n– Geral\n– Data e hora\n– PTZ\n– Alerta sonoro\n– Automanutenção\n– Padrão\n– Atualização de firmware \nMódulo 7 – Configurações de Tela \n– Tour \nMódulo 8 – Busca\, reprodução\, backup e recuperação de senha \n– Busca Avançada\n– Backup de imagens via dispositivo USB\n– Recuperação de senha por e-mail\n– Recuperação de senha por botão de reset.\nMódulo 9 – Obtendo informações no menu info \n– Registros\n– Rede\n– Usuários online\n– Status\n– BPS \nAo final do curso o participante deverá ser capaz de:\n– Operar os gravadores Multi HD;\n– Configurar as principais funcionalidades dos gravadores;\n– Realizar ajustes nas configurações do gravador de acordo com o cenário de aplicação;\n– Utilizar os recursos para melhor desempenho do produto.
URL:https://telman.com.br/treinamento/treinamento-tecnico-cftv-multi-hd/
LOCATION:Unidade Mooca\, R. Dias Leme\, 73\, São Paulo\, SP\, 03118-040\, Brasil
ATTACH;FMTTYPE=image/png:https://telman.com.br/wp-content/uploads/2023/09/CFTV-Multi-HD.png
END:VEVENT
END:VCALENDAR