BEGIN:VCALENDAR
VERSION:2.0
PRODID:-//Telman - ECPv6.15.20//NONSGML v1.0//EN
CALSCALE:GREGORIAN
METHOD:PUBLISH
X-WR-CALNAME:Telman
X-ORIGINAL-URL:https://telman.com.br
X-WR-CALDESC:Eventos para Telman
REFRESH-INTERVAL;VALUE=DURATION:PT1H
X-Robots-Tag:noindex
X-PUBLISHED-TTL:PT1H
BEGIN:VTIMEZONE
TZID:America/Sao_Paulo
BEGIN:STANDARD
TZOFFSETFROM:-0300
TZOFFSETTO:-0300
TZNAME:-03
DTSTART:20230101T000000
END:STANDARD
END:VTIMEZONE
BEGIN:VEVENT
DTSTART;TZID=America/Sao_Paulo:20240312T090000
DTEND;TZID=America/Sao_Paulo:20240312T170000
DTSTAMP:20260420T040454
CREATED:20240226T162452Z
LAST-MODIFIED:20240313T190115Z
UID:10000058-1710234000-1710262800@telman.com.br
SUMMARY:Treinamento Técnico: Soluções em Faciais
DESCRIPTION:Pré-Requisitos:\nDesejável ter realizado os seguintes treinamentos: Portfolio: Controle de acesso corporativo Portfolio: Interfornia IP Técnico: desvendando redes de computadores Desejável trazer notebook para aula prática com softwares e dispositivos de controle de acesso\nAulas:\nConteúdo programático \nMódulo 1 – Público Alvo E Personas \n– O que é público alvo\n– Persona\n– Por que definir público alvo \nMódulo 2 – Diagnóstico: Necessidades e Dores \n– Dores por persona\n– A importância do diagnóstico\n– Foco no benefício para o cliente\n– Uso de gatilhos mentais\n– Estudo de mercado e dores \nMódulo 3 – A Solução: Controle de Acesso Facial \n– O que é biometria facial\n– Detecção facial\n– Reconhecimento facial\n– Benefícios e características\n– Modelos de controladores facial \nMódulo 4 – Aplicações de cenários \n– Praticando necessidades e solução para condomínios residencial\n– Praticando necessidades e solução para condomínios corporativos\n– Praticando necessidades e solução para empresas\n– Prática de configuração e instalação da linha de controladores de acesso facial Intelbras \n  \nObjetivos de aprendizagem \n– Entender as diversas aplicações das soluções de controladores faciais Intelbras \n– Conhecer e explorar mercado de condomínios para aplicar a solução de controle de acesso facial Intelbras\n– Desenvolver projetos utilizando tecnologias visando reduzir custos e tempo de implementação;\n– Oferecer soluções completas atendendo as mais diversas necessidades de cenários condominiais;\n– Executar na prática a montagem de um cenário que utiliza tecnologias de acesso facial como controle de acesso que a Intelbras possui.
URL:https://telman.com.br/treinamento/treinamento-tecnico-solucoes-em-faciais/
LOCATION:Unidade Mooca\, R. Dias Leme\, 73\, São Paulo\, SP\, 03118-040\, Brasil
ATTACH;FMTTYPE=image/png:https://telman.com.br/wp-content/uploads/2024/02/Solucoes-em-faciais-esgotado.png
END:VEVENT
BEGIN:VEVENT
DTSTART;TZID=America/Sao_Paulo:20240321T090000
DTEND;TZID=America/Sao_Paulo:20240321T170000
DTSTAMP:20260420T040454
CREATED:20240223T190436Z
LAST-MODIFIED:20240326T184709Z
UID:10000057-1711011600-1711040400@telman.com.br
SUMMARY:Treinamento Técnico: Sistemas de detecção e Alarme de incêndio
DESCRIPTION:Conteúdo programático \nI – Conceitos Básicos Incêndio Normas ABNT NBR Sistemas Convencionais (laço monitorado e laço não monitorado) Sistemas Endereçáveis (topologia classe A e topologia classe B) \nII – Central Convencional Conhecendo as centrais convencionais Dispositivos Detectores Acionadores Manuais Sinalizadores Audiovisuais Instalação CIC e seus dispositivos Programação\Configuração CIC e dispositivos \nIII – Central Endereçável Conhecendo as centrais endereçaveis Detectores Acionadores manuais Módulos de entrada e saída Isoladores manuais Sinalizadores audiovisuais Instalação CIE e seus dispositivos Programação\Configuração CIE e seus dispositivos Startup da central Programador CIE \nObjetivos de Aprendizagem \nAo final do curso o participante deverá ser capaz de: \n– Identificar e classificar os dispositivos de detecção e alarme de incêndio;\n– Compreender o funcionamento de um SDAI;\n– Instalar e configurar as centrais CIC e CIE. \n  \nMetodologia \nPresencial – O material didático deste curso será apresentado através de aula expositiva e participativa – promovendo a interação entre teoria\, cenários práticos e experiências dos próprios participantes. Trabalha ainda de forma prática a configuração do produto.\nAo término do curso serão aplicadas as seguintes avaliações para emissão do certificado.\n1) Avaliação de reação – tem como objetivo medir a satisfação do aluno em relação ao curso;\n2) Avaliação de Aprendizagem.\n3) Disponibilizado um certificado de aprovação. \n  \nPúblico-alvo: \nIntegradores\, instaladores\, profissionais da área de Segurança Eletrônica e afins
URL:https://telman.com.br/treinamento/treinamento-tecnico-sistemas-de-deteccao-e-alarme-de-incendio/
LOCATION:Unidade Mooca\, R. Dias Leme\, 73\, São Paulo\, SP\, 03118-040\, Brasil
ATTACH;FMTTYPE=image/png:https://telman.com.br/wp-content/uploads/2024/02/Incendio-Esgotado.png
END:VEVENT
BEGIN:VEVENT
DTSTART;TZID=America/Sao_Paulo:20240326T090000
DTEND;TZID=America/Sao_Paulo:20240326T170000
DTSTAMP:20260420T040454
CREATED:20240115T175150Z
LAST-MODIFIED:20240326T184800Z
UID:10000053-1711443600-1711472400@telman.com.br
SUMMARY:Treinamento Técnico: Gravadores Multi HD
DESCRIPTION:Conteúdo Programático \nMódulo 1 – Orientações gerais sobre o primeiro acesso \n– Visão geral sobre o menu principal \nMódulo 2 – Configurações do menu Câmera \n– Encoder\n– Sobrepor\n– Modo de operação\n– Dispositivo remoto\n– Status dos canais \nMódulo 3 – Configurações do menu Armazenamento \n– Configurações básicas\n– Agenda\n– Gravação\n– Gerenciar HD\n– Estimativa de gravação \nMódulo 4 – Configurações do menu Evento \n– Detecção de movimento \n– Detecção de perda de vídeo \n– Detecção de mascaramento \nMódulo 5 – Configurações de Rede \n– Intelbras Cloud\n– TCP/IP\n– Wi-Fi\n– DDNS \nMódulo 6 – Configurações do Sistema \n– Geral\n– Data e hora\n– PTZ\n– Alerta sonoro\n– Automanutenção\n– Padrão\n– Atualização de firmware \nMódulo 7 – Configurações de Tela \n– Tour \nMódulo 8 – Busca\, reprodução\, backup e recuperação de senha \n– Busca Avançada\n– Backup de imagens via dispositivo USB\n– Recuperação de senha por e-mail\n– Recuperação de senha por botão de reset. \nMódulo 9 – Obtendo informações no menu info \n– Registros\n– Rede\n– Usuários online\n– Status\n– BPS
URL:https://telman.com.br/treinamento/treinamento-tecnico-gravadores-multi-hd/
LOCATION:Unidade Mooca\, R. Dias Leme\, 73\, São Paulo\, SP\, 03118-040\, Brasil
ATTACH;FMTTYPE=image/png:https://telman.com.br/wp-content/uploads/2024/01/CFTV-Multi-HD-esgotado.png
END:VEVENT
END:VCALENDAR