BEGIN:VCALENDAR
VERSION:2.0
PRODID:-//Telman - ECPv6.15.20//NONSGML v1.0//EN
CALSCALE:GREGORIAN
METHOD:PUBLISH
X-WR-CALNAME:Telman
X-ORIGINAL-URL:https://telman.com.br
X-WR-CALDESC:Eventos para Telman
REFRESH-INTERVAL;VALUE=DURATION:PT1H
X-Robots-Tag:noindex
X-PUBLISHED-TTL:PT1H
BEGIN:VTIMEZONE
TZID:America/Sao_Paulo
BEGIN:STANDARD
TZOFFSETFROM:-0300
TZOFFSETTO:-0300
TZNAME:-03
DTSTART:20220101T000000
END:STANDARD
END:VTIMEZONE
BEGIN:VEVENT
DTSTART;TZID=America/Sao_Paulo:20231010T090000
DTEND;TZID=America/Sao_Paulo:20231010T170000
DTSTAMP:20260420T150000
CREATED:20230912T171311Z
LAST-MODIFIED:20230913T125415Z
UID:10000050-1696928400-1696957200@telman.com.br
SUMMARY:Treinamento Técnico - Alarmes Monitorados e Sensores
DESCRIPTION:Objetivo de Aprendizagem \nAo final do curso o participante deverá ser capaz de: \n– Compreender a solução de alarmes monitorados \n– Compreender a solução de sensores. \n  \nConteúdo Programático \n– Módulo 1 – Características Técnicas dos produtos; \n– Características Técnicas dos produtos SMART; \n– Acessórios da linha SMART; – Cenários de Instalação; \n– Aplicativos e Softwares; \nMódulo 2 – Apresentação das tecnologias de Sensores; \n– Seus cenários de aplicação. \nMódulo 3 -Conceitos de Instalação; \n– Características técnicas; \nCenários de aplicações.
URL:https://telman.com.br/treinamento/treinamento-tecnico-alarmes-monitorados-e-sensores/
LOCATION:Unidade Mooca\, R. Dias Leme\, 73\, São Paulo\, SP\, 03118-040\, Brasil
ATTACH;FMTTYPE=image/png:https://telman.com.br/wp-content/uploads/2023/09/400x400-Alarmes-monitorados.png
END:VEVENT
END:VCALENDAR