BEGIN:VCALENDAR
VERSION:2.0
PRODID:-//Telman - ECPv6.15.20//NONSGML v1.0//EN
CALSCALE:GREGORIAN
METHOD:PUBLISH
X-WR-CALNAME:Telman
X-ORIGINAL-URL:https://telman.com.br
X-WR-CALDESC:Eventos para Telman
REFRESH-INTERVAL;VALUE=DURATION:PT1H
X-Robots-Tag:noindex
X-PUBLISHED-TTL:PT1H
BEGIN:VTIMEZONE
TZID:America/Sao_Paulo
BEGIN:STANDARD
TZOFFSETFROM:-0300
TZOFFSETTO:-0300
TZNAME:-03
DTSTART:20220101T000000
END:STANDARD
END:VTIMEZONE
BEGIN:VEVENT
DTSTART;TZID=America/Sao_Paulo:20231031T090000
DTEND;TZID=America/Sao_Paulo:20231031T170000
DTSTAMP:20260420T114906
CREATED:20230912T165437Z
LAST-MODIFIED:20230913T125512Z
UID:10000048-1698742800-1698771600@telman.com.br
SUMMARY:Treinamento Integrado - Fibra e CFTV IP
DESCRIPTION:Conteúdo Programático Redes de Fibra Optica para CFTV IP \nConceitos de redes Ponto a Ponto. \nMódulo 1 – Componentes de uma rede\n– Aula 1 – Conceito – O que é uma rede?\n– Aula 2 – Endereçamento de IP´s\n– Aula 2 – Roteador\n– Aula 3 – Switch \nMódulo 2 – Switches\n– Aula 1 – O que é um Switch?\n– Aula 2 – Throughput /Pacote de Dados\n– Aula 2 – O que é Tecnologia PoE?\n– Aula 3 – O que é VLAN? \nMódulo 3 – Topologia\n– Aula 1 – “Cascateamento.”\n– Aula 2 – Topologia Estrela. \nMódulo 4 – Câmeras\n– Aula 1 – Tipos de Câmeras IP´s\n– Aula 2 – Tecnologia\n– Aula 3 – Aplicação \nMódulo 5 – NVD\n– Aula 1 – Tipos de NVD´s\n– Aula 2 – Tecnologia\n– Aula 3 – Aplicação \nMódulo 6 – Conceitos de Fibras Ópticas.\n– Aula 1 – O que é a Fibra Óptica?\n– Aula 2 – Tipos de Fibras.\n– Aula 3 – Perdas por absorção na fibra.\n– Aula 4 – WDM. \nModulo 7 – Cabeamento e Conectores\n– Aula 1 – O que é cabo UTP? (CAT5e / CAT6)\n– Aula 2 – Conector RJ45 .\n– Aula 3 – Conector SC/APC/UPC. \nModulo 8 – Cenário Pratico.\n– Aula 1 – Ferramentas (Fibras e Metálico)\n– Aula 2 – Montagem dos Conectores\n– Aula 3 – Conexão inicial\n– Aula 4 – Configurando a câmera.\n– Aula 5 – Adicionando e visualizando câmera com switch PoE.\n– Aula 6 – Adicionando e visualizando câmera com conversor de míd
URL:https://telman.com.br/treinamento/treinamento-integrado-fibra-e-cftv-ip/
LOCATION:Unidade Mooca\, R. Dias Leme\, 73\, São Paulo\, SP\, 03118-040\, Brasil
ATTACH;FMTTYPE=image/png:https://telman.com.br/wp-content/uploads/2023/09/Fibra-e-CFTV-IP.png
END:VEVENT
END:VCALENDAR