BEGIN:VCALENDAR
VERSION:2.0
PRODID:-//Telman - ECPv6.15.20//NONSGML v1.0//EN
CALSCALE:GREGORIAN
METHOD:PUBLISH
X-WR-CALNAME:Telman
X-ORIGINAL-URL:https://telman.com.br
X-WR-CALDESC:Eventos para Telman
REFRESH-INTERVAL;VALUE=DURATION:PT1H
X-Robots-Tag:noindex
X-PUBLISHED-TTL:PT1H
BEGIN:VTIMEZONE
TZID:America/Sao_Paulo
BEGIN:STANDARD
TZOFFSETFROM:-0300
TZOFFSETTO:-0300
TZNAME:-03
DTSTART:20230101T000000
END:STANDARD
END:VTIMEZONE
BEGIN:VEVENT
DTSTART;TZID=America/Sao_Paulo:20240312T090000
DTEND;TZID=America/Sao_Paulo:20240312T170000
DTSTAMP:20260420T091742
CREATED:20240226T162452Z
LAST-MODIFIED:20240313T190115Z
UID:10000058-1710234000-1710262800@telman.com.br
SUMMARY:Treinamento Técnico: Soluções em Faciais
DESCRIPTION:Pré-Requisitos:\nDesejável ter realizado os seguintes treinamentos: Portfolio: Controle de acesso corporativo Portfolio: Interfornia IP Técnico: desvendando redes de computadores Desejável trazer notebook para aula prática com softwares e dispositivos de controle de acesso\nAulas:\nConteúdo programático \nMódulo 1 – Público Alvo E Personas \n– O que é público alvo\n– Persona\n– Por que definir público alvo \nMódulo 2 – Diagnóstico: Necessidades e Dores \n– Dores por persona\n– A importância do diagnóstico\n– Foco no benefício para o cliente\n– Uso de gatilhos mentais\n– Estudo de mercado e dores \nMódulo 3 – A Solução: Controle de Acesso Facial \n– O que é biometria facial\n– Detecção facial\n– Reconhecimento facial\n– Benefícios e características\n– Modelos de controladores facial \nMódulo 4 – Aplicações de cenários \n– Praticando necessidades e solução para condomínios residencial\n– Praticando necessidades e solução para condomínios corporativos\n– Praticando necessidades e solução para empresas\n– Prática de configuração e instalação da linha de controladores de acesso facial Intelbras \n  \nObjetivos de aprendizagem \n– Entender as diversas aplicações das soluções de controladores faciais Intelbras \n– Conhecer e explorar mercado de condomínios para aplicar a solução de controle de acesso facial Intelbras\n– Desenvolver projetos utilizando tecnologias visando reduzir custos e tempo de implementação;\n– Oferecer soluções completas atendendo as mais diversas necessidades de cenários condominiais;\n– Executar na prática a montagem de um cenário que utiliza tecnologias de acesso facial como controle de acesso que a Intelbras possui.
URL:https://telman.com.br/treinamento/treinamento-tecnico-solucoes-em-faciais/
LOCATION:Unidade Mooca\, R. Dias Leme\, 73\, São Paulo\, SP\, 03118-040\, Brasil
ATTACH;FMTTYPE=image/png:https://telman.com.br/wp-content/uploads/2024/02/Solucoes-em-faciais-esgotado.png
END:VEVENT
END:VCALENDAR