BEGIN:VCALENDAR
VERSION:2.0
PRODID:-//Telman - ECPv6.15.20//NONSGML v1.0//EN
CALSCALE:GREGORIAN
METHOD:PUBLISH
X-WR-CALNAME:Telman
X-ORIGINAL-URL:https://telman.com.br
X-WR-CALDESC:Eventos para Telman
REFRESH-INTERVAL;VALUE=DURATION:PT1H
X-Robots-Tag:noindex
X-PUBLISHED-TTL:PT1H
BEGIN:VTIMEZONE
TZID:America/Sao_Paulo
BEGIN:STANDARD
TZOFFSETFROM:-0300
TZOFFSETTO:-0300
TZNAME:-03
DTSTART:20230101T000000
END:STANDARD
END:VTIMEZONE
BEGIN:VEVENT
DTSTART;TZID=America/Sao_Paulo:20240403T090000
DTEND;TZID=America/Sao_Paulo:20240403T170000
DTSTAMP:20260420T041951
CREATED:20240226T164955Z
LAST-MODIFIED:20240318T200100Z
UID:10000059-1712134800-1712163600@telman.com.br
SUMMARY:Treinamento Técnico: Controle de Acesso Corporativo
DESCRIPTION:Conteúdo Programático \nMódulo 1 \nInstalação do sistema autônomo;\nInstalação física dos equipamentos;\nFonte autônoma;\nBotões de saída;\nLeitores Auxiliares;\nFechaduras;\nDicas de boas práticas de instalações;\nCadastro de senha mestre;\nCadastro de usuários (senha e tag);\nAcesso ao equipamento (via senha e tag);\nExclusão de usuários;\nReset do equipamento;\nMódulo 2 \nInstalação do sistema com software;\nInstalação fisica dos equipamentos;\nControladoras;\nAntena veicular;\nCaracterísticas do software;\nPraticas de configuração;\nCadastro de dispositivos;\nZonas de tempo;\nConfiguração de portas;\nPerfis de acesso;\nCadastro de usuarios;\nMonitoramento;\nCenários;\nAntipassback;\nAcesso combinado;\nIntertravamento.
URL:https://telman.com.br/treinamento/treinamento-tecnico-automatizadores-de-portoes/
LOCATION:Unidade Mooca\, R. Dias Leme\, 73\, São Paulo\, SP\, 03118-040\, Brasil
ATTACH;FMTTYPE=image/png:https://telman.com.br/wp-content/uploads/2024/02/400x400-Controle-de-acesso-corporativo.png
END:VEVENT
END:VCALENDAR