BEGIN:VCALENDAR
VERSION:2.0
PRODID:-//Telman - ECPv6.15.20//NONSGML v1.0//EN
CALSCALE:GREGORIAN
METHOD:PUBLISH
X-ORIGINAL-URL:https://telman.com.br
X-WR-CALDESC:Eventos para Telman
REFRESH-INTERVAL;VALUE=DURATION:PT1H
X-Robots-Tag:noindex
X-PUBLISHED-TTL:PT1H
BEGIN:VTIMEZONE
TZID:America/Sao_Paulo
BEGIN:STANDARD
TZOFFSETFROM:-0300
TZOFFSETTO:-0300
TZNAME:-03
DTSTART:20230101T000000
END:STANDARD
END:VTIMEZONE
BEGIN:VEVENT
DTSTART;TZID=America/Sao_Paulo:20240625T090000
DTEND;TZID=America/Sao_Paulo:20240625T150000
DTSTAMP:20260420T005943
CREATED:20240521T124815Z
LAST-MODIFIED:20240521T124853Z
UID:10000065-1719306000-1719327600@telman.com.br
SUMMARY:Treinamento Técnico: Solar Off Grid
DESCRIPTION:Assuntos que serão abordados:\n– Transicão na matriz energética\, panorama geral no brasil e no mundo.\n– principais diferenças entre sistema de geração de energia On e off grid.\n– Portifólio de equipamentos Off Grid\, conceitos e aplicações.\n– Integração Off grid com outros segmentos.\n– Dimensionamento de Projeto Off Grid
URL:https://telman.com.br/treinamento/treinamento-tecnico-solar-off-grid-3/
LOCATION:Unidade Mooca\, R. Dias Leme\, 73\, São Paulo\, SP\, 03118-040\, Brasil
ATTACH;FMTTYPE=image/png:https://telman.com.br/wp-content/uploads/2024/02/Treinamento-de-Energia-Solar.png
END:VEVENT
END:VCALENDAR