BEGIN:VCALENDAR
VERSION:2.0
PRODID:-//Telman - ECPv6.15.20//NONSGML v1.0//EN
CALSCALE:GREGORIAN
METHOD:PUBLISH
X-ORIGINAL-URL:https://telman.com.br
X-WR-CALDESC:Eventos para Telman
REFRESH-INTERVAL;VALUE=DURATION:PT1H
X-Robots-Tag:noindex
X-PUBLISHED-TTL:PT1H
BEGIN:VTIMEZONE
TZID:America/Sao_Paulo
BEGIN:STANDARD
TZOFFSETFROM:-0300
TZOFFSETTO:-0300
TZNAME:-03
DTSTART:20230101T000000
END:STANDARD
END:VTIMEZONE
BEGIN:VEVENT
DTSTART;TZID=America/Sao_Paulo:20240723T090000
DTEND;TZID=America/Sao_Paulo:20240723T170000
DTSTAMP:20260419T232559
CREATED:20240703T194607Z
LAST-MODIFIED:20240703T194607Z
UID:10000068-1721725200-1721754000@telman.com.br
SUMMARY:Treinamento Técnico: Controle de Acesso Corporativo
DESCRIPTION:Conteúdo Programático \nMódulo 1 \nInstalação do sistema autônomo;\nInstalação física dos equipamentos;\nFonte autônoma;\nBotões de saída;\nLeitores Auxiliares;\nFechaduras;\nDicas de boas práticas de instalações;\nCadastro de senha mestre;\nCadastro de usuários (senha e tag);\nAcesso ao equipamento (via senha e tag);\nExclusão de usuários;\nReset do equipamento;\nMódulo 2 \nInstalação do sistema com software;\nInstalação fisica dos equipamentos;\nControladoras;\nAntena veicular;\nCaracterísticas do software;\nPraticas de configuração;\nCadastro de dispositivos;\nZonas de tempo;\nConfiguração de portas;\nPerfis de acesso;\nCadastro de usuarios;\nMonitoramento;\nCenários;\nAntipassback;\nAcesso combinado;\nIntertravamento. \nObjetivos de aprendizagem \nAo final do curso o participante deverá ser capaz de: \nInstalar e configurar o Sistema de Controle de Acesso Intelbras;\nCompreender a solução de controle de acesso;\nPlanejar e oferecer o sistema de acordo com a necessidade do cliente;\nApontar as principais características do produto;\nConhecer a estrutura de funcionamento do software InControl; \nMetodologia \nO material didático deste curso será apresentado através de aula expositiva e participativa – promovendo a interação entre teoria\, cenários práticos e experiências dos próprios participantes. Trabalha ainda de forma prática a configuração do produto. \n  \nPúblico-alvo \nRevendedores\, distribuidores\, instaladores e vendedores
URL:https://telman.com.br/treinamento/treinamento-tecnico-controle-de-acesso-corporativo/
LOCATION:Unidade Mooca\, R. Dias Leme\, 73\, São Paulo\, SP\, 03118-040\, Brasil
ATTACH;FMTTYPE=image/png:https://telman.com.br/wp-content/uploads/2024/02/400x400-Controle-de-acesso-corporativo.png
END:VEVENT
BEGIN:VEVENT
DTSTART;TZID=America/Sao_Paulo:20240724T080000
DTEND;TZID=America/Sao_Paulo:20240724T170000
DTSTAMP:20260419T232559
CREATED:20240703T201537Z
LAST-MODIFIED:20240703T201624Z
UID:10000069-1721808000-1721840400@telman.com.br
SUMMARY:Treinamento Técnico: AMT Linha 8000
DESCRIPTION:Conteúdo programático \nMódulo 1: Dispositivos que compõem o sistema e suas características técnicas \n– Central de Alarmes\n– Dispositivos\n– Sensores \nMódulo 2: Reset dos dispositivos e alimentação \n– Como resetar os dispositivos e sensores?\n– Como realizar sua alimentação? \nModulo 3: Cadastro dos dispositivos sem fio e sensores sem fio \n– Métodos de cadastro\n– Como cadastrar os dispositivos e sensores sem fio? \nMódulo 4: Configurações via teclado\, aplicativo\, software e interligação \n– Atualização da central de Alarme via CLOUD\n– Configuração via teclado\n– Configuração via aplicativo AMT REMOTO MOBILE\n– Configuração via software Programador 8000 Desktop\n– Interligação com Eletrificador \nMódulo 5: RECEPTOR IP e aplicativo de interatividade \n– Conexão da central de Alarme com Software Receptor IP\n– Interatividade via aplicativo AMT MOBILE V3 \nObjetivos de aprendizagem \nAo final do curso o aluno deverá ser capaz de: \nLembrar …\nEntender …\nAplicar…\nAnalisar …\nSintetizar…\nCriar…\nConfigurar …\nOperar …\nInstalar…\nConhecer …
URL:https://telman.com.br/treinamento/treinamento-tecnico-amt-linha-8000/
LOCATION:Unidade Mooca\, R. Dias Leme\, 73\, São Paulo\, SP\, 03118-040\, Brasil
ATTACH;FMTTYPE=image/png:https://telman.com.br/wp-content/uploads/2024/07/AMT-Linha-8000.png
END:VEVENT
END:VCALENDAR