BEGIN:VCALENDAR
VERSION:2.0
PRODID:-//Telman - ECPv6.15.20//NONSGML v1.0//EN
CALSCALE:GREGORIAN
METHOD:PUBLISH
X-WR-CALNAME:Telman
X-ORIGINAL-URL:https://telman.com.br
X-WR-CALDESC:Eventos para Telman
REFRESH-INTERVAL;VALUE=DURATION:PT1H
X-Robots-Tag:noindex
X-PUBLISHED-TTL:PT1H
BEGIN:VTIMEZONE
TZID:America/Sao_Paulo
BEGIN:STANDARD
TZOFFSETFROM:-0300
TZOFFSETTO:-0300
TZNAME:-03
DTSTART:20230101T000000
END:STANDARD
END:VTIMEZONE
BEGIN:VEVENT
DTSTART;TZID=America/Sao_Paulo:20241101T090000
DTEND;TZID=America/Sao_Paulo:20241101T170000
DTSTAMP:20260419T201206
CREATED:20241021T140830Z
LAST-MODIFIED:20241021T163243Z
UID:10000077-1730451600-1730480400@telman.com.br
SUMMARY:Treinamento Técnico: Interfonia IP
DESCRIPTION:* Módulo 1 – Introdução da linha 3000\n– Apresentação sobre a linha 3000\n– Características\n* Módulo 2 – Instalação videoporteiro\n– Boas práticas de instalação\n– Fixação suporte do videoporteiro\n– Conexões\n– Passagem dos cabos\n– Ligação fechadura\n– Ligação botão de saída\n* Módulo 3 – Instalação TVIP3000\n– Conexões\n– Passagem dos cabos e fixação\n* Módulo 4 – Configuração\n– Buscando IP do videoporteiro na rede\n– Acessando a interface web do videoporteiro\n– Configurações básicas do videoporteiro\n– Configurações básicas TVIP 3000\n– Configurações de chamadas sem servidor SIP\n* Módulo 5 – Cadastro de usuários\n– Configurações de chamadas sem servidor SIP\n– Cadastro de usuários nos videoporteiros\n– Cadastro de tag\, e face \nObjetivos de aprendizagem \nAo final do curso o aluno deverá ser capaz de:\nIdentificar os produtos da linha 3000 e suas características e funções;\nCompreender a solução da linha 3000;\nInstalar e configurar o sistema da linha 3000;\nPlanejar e oferecer o sistema de acordo com a necessidade do cliente;\nApontar as principais características do produto;
URL:https://telman.com.br/treinamento/treinamento-tecnico-interfonia-ip-3/
LOCATION:Unidade Mooca\, R. Dias Leme\, 73\, São Paulo\, SP\, 03118-040\, Brasil
ATTACH;FMTTYPE=image/png:https://telman.com.br/wp-content/uploads/2024/02/Interfonia-IP.png
END:VEVENT
END:VCALENDAR